BEGIN:VCALENDAR
VERSION:2.0
PRODID:-//NextETRUCK - ECPv6.15.17.1//NONSGML v1.0//EN
CALSCALE:GREGORIAN
METHOD:PUBLISH
X-WR-CALNAME:NextETRUCK
X-ORIGINAL-URL:https://nextetruck.eu
X-WR-CALDESC:Events for NextETRUCK
REFRESH-INTERVAL;VALUE=DURATION:PT1H
X-Robots-Tag:noindex
X-PUBLISHED-TTL:PT1H
BEGIN:VTIMEZONE
TZID:Africa/Johannesburg
BEGIN:STANDARD
TZOFFSETFROM:+0200
TZOFFSETTO:+0200
TZNAME:SAST
DTSTART:20240101T000000
END:STANDARD
END:VTIMEZONE
BEGIN:VTIMEZONE
TZID:Europe/Madrid
BEGIN:DAYLIGHT
TZOFFSETFROM:+0100
TZOFFSETTO:+0200
TZNAME:CEST
DTSTART:20240331T010000
END:DAYLIGHT
BEGIN:STANDARD
TZOFFSETFROM:+0200
TZOFFSETTO:+0100
TZNAME:CET
DTSTART:20241027T010000
END:STANDARD
BEGIN:DAYLIGHT
TZOFFSETFROM:+0100
TZOFFSETTO:+0200
TZNAME:CEST
DTSTART:20250330T010000
END:DAYLIGHT
BEGIN:STANDARD
TZOFFSETFROM:+0200
TZOFFSETTO:+0100
TZNAME:CET
DTSTART:20251026T010000
END:STANDARD
BEGIN:DAYLIGHT
TZOFFSETFROM:+0100
TZOFFSETTO:+0200
TZNAME:CEST
DTSTART:20260329T010000
END:DAYLIGHT
BEGIN:STANDARD
TZOFFSETFROM:+0200
TZOFFSETTO:+0100
TZNAME:CET
DTSTART:20261025T010000
END:STANDARD
END:VTIMEZONE
BEGIN:VEVENT
DTSTART;VALUE=DATE:20250903
DTEND;VALUE=DATE:20250905
DTSTAMP:20260424T072444
CREATED:20250723T120223Z
LAST-MODIFIED:20250728T092500Z
UID:5321-1756857600-1757030399@nextetruck.eu
SUMMARY:NextETRUCK to present calculation tool at CENEX Expo in the UK
DESCRIPTION:NextETRUCK partners from CENEX UK will present the KITE tool at the CENEX Expo. The two-day event will take place on 3-4 September 2025 at the premises of the UTAC proving ground in  Millbrook\, UK. The annual event follows the successful 2024 edition that was visited by around 4500 attendees and more than 200 speakers. \n			\n				Register now\n			\n				\n				\n				\n				\n				What is the KITE tool?   \nThe tool\, which was developed by NextETRUCK partners from CENEX UK\, is a fleet carbonisation strategy tool. This decision-support platform is designed to help fleet operators transition to electric trucks. It enables users to compare diesel and electric options using total cost of ownership (TCO) analysis and environmental impact modelling. By inputting fleet-specific operational data\, the tool provides tailored insights into vehicle performance\, energy use\, and cost implications\, helping logistics companies make informed\, data-driven choices about electrification.  \nIn addition to cost and emissions analysis\, the tool offers guidance on smart charging infrastructure\, including depot charging configurations and route-based charging needs. It integrates digital fleet management features to support optimised scheduling\, energy planning\, and operational efficiency. This makes it a practical resource not only for evaluating electric truck feasibility but also for planning infrastructure investments and improving long-term fleet sustainability.  \nWhy should you participate in the CENEX Expo?   \nYou should consider participating in the CENEX Expo as it is one of the leading platforms in the UK dedicated to showcasing the latest advancements in low-carbon and CCAM technologies. The two-day event provides a great opportunity to engage with policymakers\, industry leaders and researchers at the forefront of transport decarbonisation and sustainable mobility solutions. The event includes various panel discussions\, an exhibition area\, as well as vehicle demonstrations.  
URL:https://nextetruck.eu/event/nextetruck-to-present-calculation-tool-at-cenex-expo-in-the-uk/
ATTACH;FMTTYPE=image/jpeg:https://nextetruck.eu/wp-content/uploads/2025/07/General-Social-Post-25-1.jpg
END:VEVENT
BEGIN:VEVENT
DTSTART;TZID=Europe/Madrid:20250925T090000
DTEND;TZID=Europe/Madrid:20250925T170000
DTSTAMP:20260424T072444
CREATED:20250717T091128Z
LAST-MODIFIED:20250925T053456Z
UID:5284-1758790800-1758819600@nextetruck.eu
SUMMARY:Save the date: NextETRUCK Barcelona Pilot Kick-off Event
DESCRIPTION:The NextETRUCK partners are delighted to invite you to celebrate the start of our first pilot in Barcelona. We welcome you from 9-17:00 CEST on 25 September 2025 at Port Olimpic in the heart of the Catalan capital to observe our electric refuse truck. Don’t miss out and register now!  \n			\n				REGISTER HERE\n			\n				\n				\n				\n				\n				 \n  \nWhat to expect?  \nWe would like to discuss the local decarbonisation challenges and our solutions with you. The programme includes open discussions\, project updates\, and workshops. NextETRUCK will bring together stakeholders from academia\, cities\, regions\, OEMs\, research groups\, and many more to consider medium-sized zero-emission HGVs as a suitable solution for urban- and peri-urban areas. You will also be able to visit our truck during the lunch break in the picturesque surroundings of the Barcelona Olympic Port! \nWhat are the core ambitions of the NextETRUCK project?  \nNextETRUCK seeks to: \n\nBuild concepts tailored for regional medium freight haulage with at least a 10% increase in energy efficiency compared to existing highest-end benchmark electric vehicles.\nDevelop new fleet management tools and charging infrastructure to reach full electrification in the operation of zero-emission vehicles\, safeguarding energy efficiency\nPrepare concept and infrastructure demonstrators for fast charging.\nOffer new business models to increase end-user acceptance and foster the market uptake of the project solutions\nContribute to climate goals\, particularly on local air quality.\n\n  \nPreliminary agenda: \n09:00-9:30: Welcome Coffee & Registration \n09:30-10:00: Welcome words \n10:00-11:00: Introduction to NextETRUCK: \n\nProject Introduction\nInnovative Research\nPilot Plans\n\n11:00 -11:30: Coffee Break \n11:30 -12:30: Barcelona Pilot \n\nLocal use case: electric refuse truck\nRoutes & test runs\nTests of fast-charging infrastructure\n\n12:30 – 13:00: Visit of the vehicle & Group photo \n13:00 – 14:00: Lunch Break \n14:00 – 16:30: NextETRUCK Workshop with breakout roomsTopics of the interactive workshop in smaller groups are currently being discussed; topics potentially include: \n\nDigital Twins\nCharging infrastructure\nTested vehicle components\n\n16:30 – 18:00: Networking drink
URL:https://nextetruck.eu/event/nextetruck-bcn-event/
LOCATION:Port olimpic\, Moll de Mestral\, S/N\, Sant Martí\, 08005 Barcelona\, Spain\, Barcelona\, Spain
ATTACH;FMTTYPE=image/jpeg:https://nextetruck.eu/wp-content/uploads/2025/07/NextETRUCK-Pilot-Kickoff-Barcelona.jpg
END:VEVENT
BEGIN:VEVENT
DTSTART;VALUE=DATE:20250930
DTEND;VALUE=DATE:20251002
DTSTAMP:20260424T072444
CREATED:20250723T115636Z
LAST-MODIFIED:20250728T092901Z
UID:5317-1759190400-1759363199@nextetruck.eu
SUMMARY:Joint HoLA & MACBETH megawatt charging symposium in Berlin
DESCRIPTION:The two zero-emission HGV research projects of HoLa and MACBETH are organising a joint symposium on truck megawatt charging\, which will take place from 30 September until 1 October 2025 in Berlin\, DE. Several AEVETO cluster projects and NextETRUCK partner CENEX NL will attend the event and discuss the challenges and opportunities of fast-charging technologies.   \n			\n				REGISTER\n			\n				\n				\n				\n				\n				What are the aims of both projects?   \nHoLa:   \nHoLa will install and operate two Megawatt Charging System (MCS) points and multiple CCS charging points for electric lorries at five sites along the A2 between Berlin and the Ruhr region. It begins with two CCS chargers at each location\, three near motorways and two at logistics hubs\, to support early electric lorry integration and test fast-charging. By the end\, there will be ten CCS and eight MCS chargers\, with four manufacturers providing twelve vehicles. The project includes research to gather real-world data and create a model for national rollout.  \n \nVisit their website  \nMACBETH :   \nThe MACBETH project aims to accelerate long-haul freight electrification by demonstrating multipoint megawatt charging hubs in several EU countries\, addressing technical\, social and economic challenges. It will develop interoperable\, user-focused infrastructure and supporting tools to reach large-scale deployment readiness by the project’s end in 2029.   \n \nVisit their website \nFind more \nFind out more here 
URL:https://nextetruck.eu/event/joint-hola-macbeth-megawatt-charging-symposium-in-berlin/
ATTACH;FMTTYPE=image/jpeg:https://nextetruck.eu/wp-content/uploads/2025/07/Register-for-the-European-Symposium-on-Truck-Megawatt-Charging-in-Berlin-2025.jpg
END:VEVENT
END:VCALENDAR