BEGIN:VCALENDAR
VERSION:2.0
PRODID:-//NextETRUCK - ECPv6.15.20//NONSGML v1.0//EN
CALSCALE:GREGORIAN
METHOD:PUBLISH
X-ORIGINAL-URL:https://nextetruck.eu
X-WR-CALDESC:Events for NextETRUCK
REFRESH-INTERVAL;VALUE=DURATION:PT1H
X-Robots-Tag:noindex
X-PUBLISHED-TTL:PT1H
BEGIN:VTIMEZONE
TZID:Africa/Johannesburg
BEGIN:STANDARD
TZOFFSETFROM:+0200
TZOFFSETTO:+0200
TZNAME:SAST
DTSTART:20240101T000000
END:STANDARD
END:VTIMEZONE
BEGIN:VEVENT
DTSTART;TZID=Africa/Johannesburg:20250630T000000
DTEND;TZID=Africa/Johannesburg:20250630T235959
DTSTAMP:20260424T125105
CREATED:20260423T104741Z
LAST-MODIFIED:20260423T130740Z
UID:988612-1751241600-1751327999@nextetruck.eu
SUMMARY:NextETRUCK at OpenFOAM Workshop 2025
DESCRIPTION:NextETRUCK plans to participate in the 20th OpenFOAM Workshop 2025\, which will take place from 30 June to 4 July in Vienna and is organised by the NextETRUCK project partner Austrian Institute of Technology (AIT). The gathering in the Austrian capital promotes exchange among experts who utilise and develop ‘OpenFOAM’\, an open-source software for fluid flow simulations. \n\n\n\nWhat solution does OpenFOAM provide?OpenFOAM is the free\, open-source CFD software\, which has an extensive range of features to solve anything from complex fluid flows involving chemical reactions\, turbulence and heat transfer\, to acoustics\, solid mechanics and electromagnetics. \n\n\n\nHow is OpenFOAM used in the NextETRUCK project?AIT is performing numerical fluid flow simulations with OpenFoam and other similar software solutions. These simulations are alternatives to traditional wind tunnel tests and help to simulate wind behaviour. In NextETRUCK\, AIT is working on the innovative aspects of the heating\, ventilation\, and air conditioning solutions for the truck cabin. \n\n\n\nNextETRUCK invites you to follow us on social media (LinkedIn & Twitter) to receive potential updates about the involvement of NextETRUCK in the event.
URL:https://nextetruck.eu/event/nextetruck-at-openfoam-workshop-2025/
ATTACH;FMTTYPE=image/jpeg:https://nextetruck.eu/wp-content/uploads/2026/04/OpenFOAM-mK6Dl4.jpg
END:VEVENT
END:VCALENDAR