BEGIN:VCALENDAR
VERSION:2.0
PRODID:-//NextETRUCK - ECPv6.15.20//NONSGML v1.0//EN
CALSCALE:GREGORIAN
METHOD:PUBLISH
X-WR-CALNAME:NextETRUCK
X-ORIGINAL-URL:https://nextetruck.eu
X-WR-CALDESC:Events for NextETRUCK
REFRESH-INTERVAL;VALUE=DURATION:PT1H
X-Robots-Tag:noindex
X-PUBLISHED-TTL:PT1H
BEGIN:VTIMEZONE
TZID:Africa/Johannesburg
BEGIN:STANDARD
TZOFFSETFROM:+0200
TZOFFSETTO:+0200
TZNAME:SAST
DTSTART:20240101T000000
END:STANDARD
END:VTIMEZONE
BEGIN:VEVENT
DTSTART;TZID=Africa/Johannesburg:20250519T000000
DTEND;TZID=Africa/Johannesburg:20250521T235959
DTSTAMP:20260424T142513
CREATED:20260423T104752Z
LAST-MODIFIED:20260423T130817Z
UID:988614-1747612800-1747871999@nextetruck.eu
SUMMARY:ITS European Congress 2025
DESCRIPTION:NextETRUCK is proud to join the 16th ITS European Congress. Taking place from 19 to 21 May 2025 in Seville\, this Congress brings together leaders in technology\, transport\, and policy to shape the future of clean and connected mobility. \n\n\n\nJoin us for SIS 13 – Digital twins: enabling efficient and cost-effective transport electrification\, where we’ll explore how Digital Twin technology is helping us optimise zero-emission electric medium freight solutions. As part of its mission to decarbonise urban logistics\, NextETRUCK is developing smart\, scalable solutions that accelerate the shift toward sustainable freight. Digital Twins are a key innovation in this effort\, supporting cleaner\, smarter transport across Europe. \n\n\n\nVisit us at the ERTICO Stand to connect with the team and learn more about the project. \n\n\n\nOrganised by our partner ERTICO-ITS Europe\, in collaboration with the European Commission and key Spanish institutions\, the Congress supports major initiatives such as the European Green Deal and Sustainable and Smart Mobility Strategy. \n\n\n\nMore details coming soon.
URL:https://nextetruck.eu/event/its-european-congress-2025/
ATTACH;FMTTYPE=image/jpeg:https://nextetruck.eu/wp-content/uploads/2026/04/Seville-new-date-1000x667-v3-3-gDkAU3.jpg
END:VEVENT
END:VCALENDAR