BEGIN:VCALENDAR
VERSION:2.0
PRODID:-//NextETRUCK - ECPv6.15.17.1//NONSGML v1.0//EN
CALSCALE:GREGORIAN
METHOD:PUBLISH
X-WR-CALNAME:NextETRUCK
X-ORIGINAL-URL:https://nextetruck.eu
X-WR-CALDESC:Events for NextETRUCK
REFRESH-INTERVAL;VALUE=DURATION:PT1H
X-Robots-Tag:noindex
X-PUBLISHED-TTL:PT1H
BEGIN:VTIMEZONE
TZID:Africa/Johannesburg
BEGIN:STANDARD
TZOFFSETFROM:+0200
TZOFFSETTO:+0200
TZNAME:SAST
DTSTART:20220101T000000
END:STANDARD
END:VTIMEZONE
BEGIN:VEVENT
DTSTART;VALUE=DATE:20231004
DTEND;VALUE=DATE:20231006
DTSTAMP:20260420T222428
CREATED:20230621T094847Z
LAST-MODIFIED:20230621T095052Z
UID:4541-1696377600-1696550399@nextetruck.eu
SUMMARY:SAE 2023 Thermal Management Systems Symposium (TMSS)
DESCRIPTION:From 4 to 5 October\, join our AIT partners at the SAE 2023 Thermal Management Systems Symposium (TMSS) to navigate the technical transition to advanced propulsion. TMSS offers direct access to industry experts sharing the latest innovations and solutions in thermal systems technology. Engage with engineers from leading OEMs\, suppliers\, and regulatory entities to discuss industry trends\, climate control strategies\, and emerging technologies. \nJoin this event to network with the best in-ground vehicle thermal systems technology and management. Stay up to speed and be part of the conversation at TMSS. \nCheck out their programme and attendance details here 
URL:https://nextetruck.eu/event/sae-2023-thermal-management-systems-symposium-tmss/
LOCATION:Plymouth\, Michigan\, Plymouth\, Michigan
ATTACH;FMTTYPE=image/jpeg:https://nextetruck.eu/wp-content/uploads/2023/06/Thermal-Management-Symposium.jpeg
END:VEVENT
END:VCALENDAR