BEGIN:VCALENDAR
VERSION:2.0
PRODID:-//NextETRUCK - ECPv6.15.17.1//NONSGML v1.0//EN
CALSCALE:GREGORIAN
METHOD:PUBLISH
X-ORIGINAL-URL:https://nextetruck.eu
X-WR-CALDESC:Events for NextETRUCK
REFRESH-INTERVAL;VALUE=DURATION:PT1H
X-Robots-Tag:noindex
X-PUBLISHED-TTL:PT1H
BEGIN:VTIMEZONE
TZID:Africa/Johannesburg
BEGIN:STANDARD
TZOFFSETFROM:+0200
TZOFFSETTO:+0200
TZNAME:SAST
DTSTART:20220101T000000
END:STANDARD
END:VTIMEZONE
BEGIN:VEVENT
DTSTART;VALUE=DATE:20230619
DTEND;VALUE=DATE:20230621
DTSTAMP:20260420T152016
CREATED:20230619T144439Z
LAST-MODIFIED:20230619T144627Z
UID:4534-1687132800-1687305599@nextetruck.eu
SUMMARY:The E-Volution: urban space solutions for passengers and freight
DESCRIPTION:The Parking and Freight working groups of POLIS Network are organizing a joint event in Brussels to discuss the future of electromobility for passenger and logistics transport. The workshop will focus on the latest trends in e-mobility related to parking\, charging\, and urban freight. \nExperts and stakeholders from various sectors will come together to share their knowledge and experiences. The event is divided into two sessions\, one exploring passenger transit and the other delving into freight and logistics. The discussions will address the challenges of decarbonizing the transport sector\, particularly in urban areas\, where vehicle pollution has a significant impact. \nThe workshop will also highlight the technological advancements in battery-electric vehicles for both passenger and commercial use\, with a particular focus on charging infrastructure solutions. \nThe NextETRUCK will be presented as a flagship project for the decarbonisation of the logistics sector. \nRegister here: https://polisnetwork.civi-go.net/civicrm/event/info?reset=1&id=323
URL:https://nextetruck.eu/event/the-e-volution-urban-space-solutions-for-passengers-and-freight/
ATTACH;FMTTYPE=image/jpeg:https://nextetruck.eu/wp-content/uploads/2023/06/POLIS.jpg
END:VEVENT
END:VCALENDAR