BEGIN:VCALENDAR
VERSION:2.0
PRODID:-//NextETRUCK - ECPv6.15.17.1//NONSGML v1.0//EN
CALSCALE:GREGORIAN
METHOD:PUBLISH
X-ORIGINAL-URL:https://nextetruck.eu
X-WR-CALDESC:Events for NextETRUCK
REFRESH-INTERVAL;VALUE=DURATION:PT1H
X-Robots-Tag:noindex
X-PUBLISHED-TTL:PT1H
BEGIN:VTIMEZONE
TZID:Africa/Johannesburg
BEGIN:STANDARD
TZOFFSETFROM:+0200
TZOFFSETTO:+0200
TZNAME:SAST
DTSTART:20240101T000000
END:STANDARD
END:VTIMEZONE
BEGIN:VTIMEZONE
TZID:Europe/Madrid
BEGIN:DAYLIGHT
TZOFFSETFROM:+0100
TZOFFSETTO:+0200
TZNAME:CEST
DTSTART:20240331T010000
END:DAYLIGHT
BEGIN:STANDARD
TZOFFSETFROM:+0200
TZOFFSETTO:+0100
TZNAME:CET
DTSTART:20241027T010000
END:STANDARD
BEGIN:DAYLIGHT
TZOFFSETFROM:+0100
TZOFFSETTO:+0200
TZNAME:CEST
DTSTART:20250330T010000
END:DAYLIGHT
BEGIN:STANDARD
TZOFFSETFROM:+0200
TZOFFSETTO:+0100
TZNAME:CET
DTSTART:20251026T010000
END:STANDARD
BEGIN:DAYLIGHT
TZOFFSETFROM:+0100
TZOFFSETTO:+0200
TZNAME:CEST
DTSTART:20260329T010000
END:DAYLIGHT
BEGIN:STANDARD
TZOFFSETFROM:+0200
TZOFFSETTO:+0100
TZNAME:CET
DTSTART:20261025T010000
END:STANDARD
END:VTIMEZONE
BEGIN:VTIMEZONE
TZID:Europe/Amsterdam
BEGIN:DAYLIGHT
TZOFFSETFROM:+0100
TZOFFSETTO:+0200
TZNAME:CEST
DTSTART:20240331T010000
END:DAYLIGHT
BEGIN:STANDARD
TZOFFSETFROM:+0200
TZOFFSETTO:+0100
TZNAME:CET
DTSTART:20241027T010000
END:STANDARD
BEGIN:DAYLIGHT
TZOFFSETFROM:+0100
TZOFFSETTO:+0200
TZNAME:CEST
DTSTART:20250330T010000
END:DAYLIGHT
BEGIN:STANDARD
TZOFFSETFROM:+0200
TZOFFSETTO:+0100
TZNAME:CET
DTSTART:20251026T010000
END:STANDARD
BEGIN:DAYLIGHT
TZOFFSETFROM:+0100
TZOFFSETTO:+0200
TZNAME:CEST
DTSTART:20260329T010000
END:DAYLIGHT
BEGIN:STANDARD
TZOFFSETFROM:+0200
TZOFFSETTO:+0100
TZNAME:CET
DTSTART:20261025T010000
END:STANDARD
END:VTIMEZONE
BEGIN:VTIMEZONE
TZID:Europe/Brussels
BEGIN:DAYLIGHT
TZOFFSETFROM:+0100
TZOFFSETTO:+0200
TZNAME:CEST
DTSTART:20250330T010000
END:DAYLIGHT
BEGIN:STANDARD
TZOFFSETFROM:+0200
TZOFFSETTO:+0100
TZNAME:CET
DTSTART:20251026T010000
END:STANDARD
BEGIN:DAYLIGHT
TZOFFSETFROM:+0100
TZOFFSETTO:+0200
TZNAME:CEST
DTSTART:20260329T010000
END:DAYLIGHT
BEGIN:STANDARD
TZOFFSETFROM:+0200
TZOFFSETTO:+0100
TZNAME:CET
DTSTART:20261025T010000
END:STANDARD
BEGIN:DAYLIGHT
TZOFFSETFROM:+0100
TZOFFSETTO:+0200
TZNAME:CEST
DTSTART:20270328T010000
END:DAYLIGHT
BEGIN:STANDARD
TZOFFSETFROM:+0200
TZOFFSETTO:+0100
TZNAME:CET
DTSTART:20271031T010000
END:STANDARD
END:VTIMEZONE
BEGIN:VEVENT
DTSTART;VALUE=DATE:20250903
DTEND;VALUE=DATE:20250905
DTSTAMP:20260421T022818
CREATED:20250723T120223Z
LAST-MODIFIED:20250728T092500Z
UID:5321-1756857600-1757030399@nextetruck.eu
SUMMARY:NextETRUCK to present calculation tool at CENEX Expo in the UK
DESCRIPTION:NextETRUCK partners from CENEX UK will present the KITE tool at the CENEX Expo. The two-day event will take place on 3-4 September 2025 at the premises of the UTAC proving ground in  Millbrook\, UK. The annual event follows the successful 2024 edition that was visited by around 4500 attendees and more than 200 speakers. \n			\n				Register now\n			\n				\n				\n				\n				\n				What is the KITE tool?   \nThe tool\, which was developed by NextETRUCK partners from CENEX UK\, is a fleet carbonisation strategy tool. This decision-support platform is designed to help fleet operators transition to electric trucks. It enables users to compare diesel and electric options using total cost of ownership (TCO) analysis and environmental impact modelling. By inputting fleet-specific operational data\, the tool provides tailored insights into vehicle performance\, energy use\, and cost implications\, helping logistics companies make informed\, data-driven choices about electrification.  \nIn addition to cost and emissions analysis\, the tool offers guidance on smart charging infrastructure\, including depot charging configurations and route-based charging needs. It integrates digital fleet management features to support optimised scheduling\, energy planning\, and operational efficiency. This makes it a practical resource not only for evaluating electric truck feasibility but also for planning infrastructure investments and improving long-term fleet sustainability.  \nWhy should you participate in the CENEX Expo?   \nYou should consider participating in the CENEX Expo as it is one of the leading platforms in the UK dedicated to showcasing the latest advancements in low-carbon and CCAM technologies. The two-day event provides a great opportunity to engage with policymakers\, industry leaders and researchers at the forefront of transport decarbonisation and sustainable mobility solutions. The event includes various panel discussions\, an exhibition area\, as well as vehicle demonstrations.  
URL:https://nextetruck.eu/event/nextetruck-to-present-calculation-tool-at-cenex-expo-in-the-uk/
LOCATION:Brussels
ATTACH;FMTTYPE=image/jpeg:https://nextetruck.eu/wp-content/uploads/2025/07/General-Social-Post-25-1.jpg
END:VEVENT
BEGIN:VEVENT
DTSTART;TZID=Europe/Madrid:20250925T090000
DTEND;TZID=Europe/Madrid:20250925T170000
DTSTAMP:20260421T022818
CREATED:20250717T091128Z
LAST-MODIFIED:20250925T053456Z
UID:5284-1758790800-1758819600@nextetruck.eu
SUMMARY:Save the date: NextETRUCK Barcelona Pilot Kick-off Event
DESCRIPTION:The NextETRUCK partners are delighted to invite you to celebrate the start of our first pilot in Barcelona. We welcome you from 9-17:00 CEST on 25 September 2025 at Port Olimpic in the heart of the Catalan capital to observe our electric refuse truck. Don’t miss out and register now!  \n			\n				REGISTER HERE\n			\n				\n				\n				\n				\n				 \n  \nWhat to expect?  \nWe would like to discuss the local decarbonisation challenges and our solutions with you. The programme includes open discussions\, project updates\, and workshops. NextETRUCK will bring together stakeholders from academia\, cities\, regions\, OEMs\, research groups\, and many more to consider medium-sized zero-emission HGVs as a suitable solution for urban- and peri-urban areas. You will also be able to visit our truck during the lunch break in the picturesque surroundings of the Barcelona Olympic Port! \nWhat are the core ambitions of the NextETRUCK project?  \nNextETRUCK seeks to: \n\nBuild concepts tailored for regional medium freight haulage with at least a 10% increase in energy efficiency compared to existing highest-end benchmark electric vehicles.\nDevelop new fleet management tools and charging infrastructure to reach full electrification in the operation of zero-emission vehicles\, safeguarding energy efficiency\nPrepare concept and infrastructure demonstrators for fast charging.\nOffer new business models to increase end-user acceptance and foster the market uptake of the project solutions\nContribute to climate goals\, particularly on local air quality.\n\n  \nPreliminary agenda: \n09:00-9:30: Welcome Coffee & Registration \n09:30-10:00: Welcome words \n10:00-11:00: Introduction to NextETRUCK: \n\nProject Introduction\nInnovative Research\nPilot Plans\n\n11:00 -11:30: Coffee Break \n11:30 -12:30: Barcelona Pilot \n\nLocal use case: electric refuse truck\nRoutes & test runs\nTests of fast-charging infrastructure\n\n12:30 – 13:00: Visit of the vehicle & Group photo \n13:00 – 14:00: Lunch Break \n14:00 – 16:30: NextETRUCK Workshop with breakout roomsTopics of the interactive workshop in smaller groups are currently being discussed; topics potentially include: \n\nDigital Twins\nCharging infrastructure\nTested vehicle components\n\n16:30 – 18:00: Networking drink
URL:https://nextetruck.eu/event/nextetruck-bcn-event/
LOCATION:Port olimpic\, Moll de Mestral\, S/N\, Sant Martí\, 08005 Barcelona\, Spain\, Barcelona\, Spain
ATTACH;FMTTYPE=image/jpeg:https://nextetruck.eu/wp-content/uploads/2025/07/NextETRUCK-Pilot-Kickoff-Barcelona.jpg
END:VEVENT
BEGIN:VEVENT
DTSTART;VALUE=DATE:20250930
DTEND;VALUE=DATE:20251002
DTSTAMP:20260421T022818
CREATED:20250723T115636Z
LAST-MODIFIED:20250728T092901Z
UID:5317-1759190400-1759363199@nextetruck.eu
SUMMARY:Joint HoLA & MACBETH megawatt charging symposium in Berlin
DESCRIPTION:The two zero-emission HGV research projects of HoLa and MACBETH are organising a joint symposium on truck megawatt charging\, which will take place from 30 September until 1 October 2025 in Berlin\, DE. Several AEVETO cluster projects and NextETRUCK partner CENEX NL will attend the event and discuss the challenges and opportunities of fast-charging technologies.   \n			\n				REGISTER\n			\n				\n				\n				\n				\n				What are the aims of both projects?   \nHoLa:   \nHoLa will install and operate two Megawatt Charging System (MCS) points and multiple CCS charging points for electric lorries at five sites along the A2 between Berlin and the Ruhr region. It begins with two CCS chargers at each location\, three near motorways and two at logistics hubs\, to support early electric lorry integration and test fast-charging. By the end\, there will be ten CCS and eight MCS chargers\, with four manufacturers providing twelve vehicles. The project includes research to gather real-world data and create a model for national rollout.  \n \nVisit their website  \nMACBETH :   \nThe MACBETH project aims to accelerate long-haul freight electrification by demonstrating multipoint megawatt charging hubs in several EU countries\, addressing technical\, social and economic challenges. It will develop interoperable\, user-focused infrastructure and supporting tools to reach large-scale deployment readiness by the project’s end in 2029.   \n \nVisit their website \nFind more \nFind out more here 
URL:https://nextetruck.eu/event/joint-hola-macbeth-megawatt-charging-symposium-in-berlin/
LOCATION:Brussels
ATTACH;FMTTYPE=image/jpeg:https://nextetruck.eu/wp-content/uploads/2025/07/Register-for-the-European-Symposium-on-Truck-Megawatt-Charging-in-Berlin-2025.jpg
END:VEVENT
BEGIN:VEVENT
DTSTART;VALUE=DATE:20251002
DTEND;VALUE=DATE:20251003
DTSTAMP:20260421T022818
CREATED:20250903T135044Z
LAST-MODIFIED:20250903T140219Z
UID:5350-1759363200-1759449599@nextetruck.eu
SUMMARY:NextETRUCK joins e-truck event at Zandvoort
DESCRIPTION:NextETRUCK will participate in the e-truck experience day on 2 October at the Zandvoort Circuit (NL) to share project updates and NextETRUCK tools with a wider audience of OEMs\, freight businesses and fleet managers. You can register for the business event here.  \nThe business-to-business event will take place at the iconic Zandvoort Circuit\, a racetrack nestled in the Dutch dunes and typically home to Formula 1 and GT4 races. Linked to the annual EV experience\, the largest event of its kind in the Netherlands\, a gathering that is designed to encourage and strengthen business connections\, while allowing a wider audience to test a variety of more than 100 electric vehicles of various price points. \nWhy is NextETRUCK attending this event?\nVarious conferences focus on the target audience of OEMs\, while discussing topics related to the electrification of heavy-duty vehicles or alternative freight solutions\, but the E-Truck Experience will provide a more hands-on approach to networking between OEMs\, freight companies and fleet managers. \nWhat is NextETRUCK presenting?\nManaging fleets of electric heavy-duty vehicles is a challenging task\, with added complexities such as charging needs\, battery degradation\, driving and resting times\, total cost of ownership assessments\, and long-term investment strategies\, among others. \nTo address many of these challenges\, NextETRUCK introduces the KITE tool\, developed by CENEX NL\, which will be showcased to a broader audience during a dedicated presentation. Attendees will also have the opportunity to connect with CENEX NL and POLIS Network representatives at the project’s stand. \nUltimately\, NextETRUCK and its partners aim to reach and engage new stakeholder groups.
URL:https://nextetruck.eu/event/nextetruck-zandvoort/
LOCATION:Brussels
ATTACH;FMTTYPE=image/jpeg:https://nextetruck.eu/wp-content/uploads/2025/09/shutterstock_2330773865.jpg
END:VEVENT
BEGIN:VEVENT
DTSTART;TZID=Africa/Johannesburg:20260428T090000
DTEND;TZID=Africa/Johannesburg:20260428T133000
DTSTAMP:20260421T022818
CREATED:20260216T173152Z
LAST-MODIFIED:20260414T114533Z
UID:5438-1777366800-1777383000@nextetruck.eu
SUMMARY:Save the date: NEXTETRUCK & ESCALATE joint event on zero-emission freight!
DESCRIPTION:The NextETRUCK and ESCALATE projects invite you to participate in their joint event on zero-emission freight on 28 April from 9-13:15 in meeting room 3B/22 as part of the ITS Europe Congress 2026 in Istanbul. Towards the end of the event\, we will be visiting our pilot truck from Ford Otosan. Register now for an inspiring morning of discussions focused on the decarbonisation of urban and long-haul freight transport.   \nRegister Now\nResearch and development of zero-emission freight vehicles (zHGVs) across all vehicle sizes is a cornerstone of reducing road transport emissions on medium- and long-haul routes. However\, the large-scale deployment of zHGVs faces several challenges\, including cost considerations\, fast-charging and refuelling infrastructure\, digital charging management solutions\, and vehicle performance across diverse operational conditions and climate zones.  \nFord Otosan is a partner in both the NEXTETRUCK and ESCALATE projects\, which address the outlined challenges. During the event\, we aim to showcase the truck used in the Istanbul pilot\, which operates on various routes connecting two Ford Otosan factories in the peri-urban areas of Istanbul.   \n  \nPreliminary Agenda \n\n09:00 – 09:30: General introduction to the event\, NextETRUCK & ESCALATE\n09:30 – 10:30: Innovations in Next-Generation Drivetrain Technology\n10:30 – 11:00: Coffee Break & Networking\n11:00 – 12:00: Digital Tools\n12:00 – 12:15: Event Conclusion & Upcoming Events\n12:15 – 12:30: Walk to NextETRUCK Exhibition Area\n12:30 – 13:15: Visit Ford Otosan NextETRUCK\n\n  \nWhat can you expect from the ITS Congress?  \nThe ITS Congress 2026 will take place from 27–29 April 2026 at the Istanbul International Convention and Exhibition Centre\, near Taksim Square\, in the heart of the city. The congress is expected to attract several thousand European and international stakeholders from across the transport and mobility sectors. 
URL:https://nextetruck.eu/event/its-nextetruck-escalate-event/
LOCATION:ITS Congress\, Harbiye\, Darülbedai Cd. No:3\, 34367 Şişli/İstanbul\, Türkiye\, Istanbul\, Turkey
ATTACH;FMTTYPE=image/jpeg:https://nextetruck.eu/wp-content/uploads/2026/02/Joint-NextETRUCK-ESCALATE-zero-emission-freight-workshop7.jpg
END:VEVENT
BEGIN:VEVENT
DTSTART;TZID=Africa/Johannesburg:20260512T110000
DTEND;TZID=Africa/Johannesburg:20260512T140000
DTSTAMP:20260421T022818
CREATED:20260223T160336Z
LAST-MODIFIED:20260415T134058Z
UID:5443-1778583600-1778594400@nextetruck.eu
SUMMARY:NextETRUCK launches Green Mobility Exchange side event in Amsterdam
DESCRIPTION:NextETRUCK invites you to attend its free side session at the Green Mobility Exchange\, taking place on 12 May 2026 (11-14:00) at Tolhuistuin in Amsterdam North. \nThrough the inaugural edition of the Green Mobility Exchange\, project partner CENEX NL seeks to broaden the scope of its traditional annual spring gathering by engaging a wider network of stakeholders from industry\, OEMs\, municipalities and regional authorities. The initiative offers participants the opportunity to explore CENEX NL’s latest findings and practical insights in transport\, energy systems and the circular economy. \nRegister Here\n  \nWhat can you expect from the NextETRUCK side event? \nThe programme will open with a concise introduction to the NextETRUCK initiative\, followed by contributions that closely reflect the central themes of the main event. Among these will be presentations on the implementation and validation of megawatt charging technologies developed within the project framework. \nCENEX NL will also showcase its ‘KITE Tool’\, designed to assist fleet operators in evaluating the transition to electric vehicles. By assessing total cost of ownership alongside life-cycle impacts\, the tool provides a robust analytical basis for investment planning and long-term strategy. \nIn addition\, representatives from the AEVETO cluster will deliver brief pitches outlining their respective activities. These contributions will offer a clear and structured overview of complementary research approaches addressing the decarbonisation of road freight and heavy-duty transport.
URL:https://nextetruck.eu/event/nextetruck-gme-side-event/
LOCATION:Tolhuistuin\, IJpromenade 2\, 1031 KT Amsterdam\, Netherlands\, Amsterdam\, Netherlands
ATTACH;FMTTYPE=image/png:https://nextetruck.eu/wp-content/uploads/2026/02/GreenMobilityEvent-x-NextETruck.png
END:VEVENT
BEGIN:VEVENT
DTSTART;TZID=Europe/Brussels:20260928T100000
DTEND;TZID=Europe/Brussels:20260928T170000
DTSTAMP:20260421T022818
CREATED:20260318T145449Z
LAST-MODIFIED:20260414T154710Z
UID:5478-1790589600-1790614800@nextetruck.eu
SUMMARY:Save the date: NextETRUCK Final Conference
DESCRIPTION:NextETRUCK is delighted to invite you to attend our final conference on 28 September 2026 at Palace of the Academies in Brussels\, Belgium.  \nRegister Now\n  \nThe free\, full-day event will take place from 10:00 – 15:00\, followed by a networking opportunity at the prestigious gardens of the Palace of the Academies next to the Royal Palace of Brussels. You will also have the opportunity to visit our NextETRUCKs from our pilots during the lunch break. \nNextETRUCK is looking back on the successful four years of developing trucks\, which were deployed across three major European peri-urban areas of Barcelona\, Istanbul and North-West England. Additionally\, we have developed tools\, digital twins\, total cost of ownership calculation methods and cooperated with other zero-emission freight projects as part of the AEVETO cluster. We would like to celebrate all of these results with you. \nDraft agenda: \n10:00 – 10:30: Welcome Coffee & Registrations \n10:30 – 13:00: Overview of project results \n13:00 – 14:00: Lunch & visit of our NextETRUCKs \n14:00 – 15:00: Panel discussion \n15:00 – 16:30: Networking Drink
URL:https://nextetruck.eu/event/nextetruck-final-conference/
LOCATION:Brussels
ATTACH;FMTTYPE=image/jpeg:https://nextetruck.eu/wp-content/uploads/2026/03/NextETRUCK-Pilot-Kickoff-Barcelona1.jpg
END:VEVENT
END:VCALENDAR