BEGIN:VCALENDAR
VERSION:2.0
PRODID:-//NextETRUCK - ECPv6.15.17.1//NONSGML v1.0//EN
CALSCALE:GREGORIAN
METHOD:PUBLISH
X-WR-CALNAME:NextETRUCK
X-ORIGINAL-URL:https://nextetruck.eu
X-WR-CALDESC:Events for NextETRUCK
REFRESH-INTERVAL;VALUE=DURATION:PT1H
X-Robots-Tag:noindex
X-PUBLISHED-TTL:PT1H
BEGIN:VTIMEZONE
TZID:Africa/Johannesburg
BEGIN:STANDARD
TZOFFSETFROM:+0200
TZOFFSETTO:+0200
TZNAME:SAST
DTSTART:20220101T000000
END:STANDARD
END:VTIMEZONE
BEGIN:VEVENT
DTSTART;TZID=Africa/Johannesburg:20230223T110000
DTEND;TZID=Africa/Johannesburg:20230223T120000
DTSTAMP:20260420T074715
CREATED:20230217T151821Z
LAST-MODIFIED:20230217T151821Z
UID:4429-1677150000-1677153600@nextetruck.eu
SUMMARY:LEAD e-course: “Unlocking the potential of Digital Twins for sustainable on-demand urban logistics”
DESCRIPTION:The course\, organised by LEAD\, is part of their newly-launched Massive Open Online Course. The ‘ based on the findings of the project’s Living Labs and will provide a Digital Twinning Capacity Building Programme\, which is one-of-a-kind with its focus on urban logistics\, and will enhance the expertise and knowledge of officials and researchers in open-source tools and modelling for Digital Twins. Additionally\, the course will offer a general overview of urban freight\, with a particular emphasis on on-demand and last-mile logistics. \nTo learn more about what the e-course entails and the details of each unit\, you can register for the kick-off webinar\, which will take place on February 23rd from 11:00 to 12:00 CET. The e-course will be hosted on the Mobility Academy platform\, free of charge. \nYou can find instructions on how to register here and the registration link here.
URL:https://nextetruck.eu/event/lead-e-course-unlocking-the-potential-of-digital-twins-for-sustainable-on-demand-urban-logistics/
ATTACH;FMTTYPE=image/png:https://nextetruck.eu/wp-content/uploads/2023/02/Lead_logo.png
END:VEVENT
END:VCALENDAR