BEGIN:VCALENDAR
VERSION:2.0
PRODID:-//NextETRUCK - ECPv6.15.17.1//NONSGML v1.0//EN
CALSCALE:GREGORIAN
METHOD:PUBLISH
X-ORIGINAL-URL:https://nextetruck.eu
X-WR-CALDESC:Events for NextETRUCK
REFRESH-INTERVAL;VALUE=DURATION:PT1H
X-Robots-Tag:noindex
X-PUBLISHED-TTL:PT1H
BEGIN:VTIMEZONE
TZID:Europe/Madrid
BEGIN:DAYLIGHT
TZOFFSETFROM:+0100
TZOFFSETTO:+0200
TZNAME:CEST
DTSTART:20240331T010000
END:DAYLIGHT
BEGIN:STANDARD
TZOFFSETFROM:+0200
TZOFFSETTO:+0100
TZNAME:CET
DTSTART:20241027T010000
END:STANDARD
BEGIN:DAYLIGHT
TZOFFSETFROM:+0100
TZOFFSETTO:+0200
TZNAME:CEST
DTSTART:20250330T010000
END:DAYLIGHT
BEGIN:STANDARD
TZOFFSETFROM:+0200
TZOFFSETTO:+0100
TZNAME:CET
DTSTART:20251026T010000
END:STANDARD
BEGIN:DAYLIGHT
TZOFFSETFROM:+0100
TZOFFSETTO:+0200
TZNAME:CEST
DTSTART:20260329T010000
END:DAYLIGHT
BEGIN:STANDARD
TZOFFSETFROM:+0200
TZOFFSETTO:+0100
TZNAME:CET
DTSTART:20261025T010000
END:STANDARD
END:VTIMEZONE
BEGIN:VEVENT
DTSTART;TZID=Europe/Madrid:20250925T090000
DTEND;TZID=Europe/Madrid:20250925T170000
DTSTAMP:20260424T085957
CREATED:20250717T091128Z
LAST-MODIFIED:20250925T053456Z
UID:5284-1758790800-1758819600@nextetruck.eu
SUMMARY:Save the date: NextETRUCK Barcelona Pilot Kick-off Event
DESCRIPTION:The NextETRUCK partners are delighted to invite you to celebrate the start of our first pilot in Barcelona. We welcome you from 9-17:00 CEST on 25 September 2025 at Port Olimpic in the heart of the Catalan capital to observe our electric refuse truck. Don’t miss out and register now!  \n			\n				REGISTER HERE\n			\n				\n				\n				\n				\n				 \n  \nWhat to expect?  \nWe would like to discuss the local decarbonisation challenges and our solutions with you. The programme includes open discussions\, project updates\, and workshops. NextETRUCK will bring together stakeholders from academia\, cities\, regions\, OEMs\, research groups\, and many more to consider medium-sized zero-emission HGVs as a suitable solution for urban- and peri-urban areas. You will also be able to visit our truck during the lunch break in the picturesque surroundings of the Barcelona Olympic Port! \nWhat are the core ambitions of the NextETRUCK project?  \nNextETRUCK seeks to: \n\nBuild concepts tailored for regional medium freight haulage with at least a 10% increase in energy efficiency compared to existing highest-end benchmark electric vehicles.\nDevelop new fleet management tools and charging infrastructure to reach full electrification in the operation of zero-emission vehicles\, safeguarding energy efficiency\nPrepare concept and infrastructure demonstrators for fast charging.\nOffer new business models to increase end-user acceptance and foster the market uptake of the project solutions\nContribute to climate goals\, particularly on local air quality.\n\n  \nPreliminary agenda: \n09:00-9:30: Welcome Coffee & Registration \n09:30-10:00: Welcome words \n10:00-11:00: Introduction to NextETRUCK: \n\nProject Introduction\nInnovative Research\nPilot Plans\n\n11:00 -11:30: Coffee Break \n11:30 -12:30: Barcelona Pilot \n\nLocal use case: electric refuse truck\nRoutes & test runs\nTests of fast-charging infrastructure\n\n12:30 – 13:00: Visit of the vehicle & Group photo \n13:00 – 14:00: Lunch Break \n14:00 – 16:30: NextETRUCK Workshop with breakout roomsTopics of the interactive workshop in smaller groups are currently being discussed; topics potentially include: \n\nDigital Twins\nCharging infrastructure\nTested vehicle components\n\n16:30 – 18:00: Networking drink
URL:https://nextetruck.eu/event/nextetruck-bcn-event/
LOCATION:Port olimpic\, Moll de Mestral\, S/N\, Sant Martí\, 08005 Barcelona\, Spain\, Barcelona\, Spain
ATTACH;FMTTYPE=image/jpeg:https://nextetruck.eu/wp-content/uploads/2025/07/NextETRUCK-Pilot-Kickoff-Barcelona.jpg
END:VEVENT
END:VCALENDAR