BEGIN:VCALENDAR
VERSION:2.0
PRODID:-//NextETRUCK - ECPv6.15.17.1//NONSGML v1.0//EN
CALSCALE:GREGORIAN
METHOD:PUBLISH
X-WR-CALNAME:NextETRUCK
X-ORIGINAL-URL:https://nextetruck.eu
X-WR-CALDESC:Events for NextETRUCK
REFRESH-INTERVAL;VALUE=DURATION:PT1H
X-Robots-Tag:noindex
X-PUBLISHED-TTL:PT1H
BEGIN:VTIMEZONE
TZID:Africa/Johannesburg
BEGIN:STANDARD
TZOFFSETFROM:+0200
TZOFFSETTO:+0200
TZNAME:SAST
DTSTART:20220101T000000
END:STANDARD
END:VTIMEZONE
BEGIN:VEVENT
DTSTART;VALUE=DATE:20230814
DTEND;VALUE=DATE:20230819
DTSTAMP:20260420T202948
CREATED:20230621T102254Z
LAST-MODIFIED:20230621T102254Z
UID:4546-1691971200-1692403199@nextetruck.eu
SUMMARY:IHTC-17 | INTERNATIONAL HEAT TRANSFER CONFERENCE
DESCRIPTION:The field of heat and mass transfer plays a crucial role in various aspects of society\, as it is involved in energy production\, transportation\, manufacturing\, and daily activities. The International Heat Transfer Conference (IHTC) is a platform for scientists and engineers to exchange the latest information and develop cutting-edge technologies. IHTC-17\, to be held in Cape Town\, South Africa\, in August 2023\, aims to foster international cooperation and address urgent global challenges\, such as sustainable development and economic growth. The conference encourages interdisciplinary collaboration to find innovative solutions for societal problems and improve people’s lives worldwide. \nThe NextETRUCK project Utrectht use case will incorporate intelligent thermal management in the truck’s cabin\, striking the right balance between maintaining the driver’s comfort and minimizing battery consumption in the vehicle. AIT\, NextETRUCK partners\, will be present at the IHTC to discuss the latest developments to address the topic and ensure sustainable results for the project. \nRegister here: https://ihtc17.org/registration/ 
URL:https://nextetruck.eu/event/ihtc-17-international-heat-transfer-conference/
ATTACH;FMTTYPE=image/jpeg:https://nextetruck.eu/wp-content/uploads/2023/06/International-Heat-Transfer-Conference.jpg
END:VEVENT
END:VCALENDAR